BEGIN:VCALENDAR
PRODID:-//PUBBLE//agenda//NL
VERSION:2.0
METHOD:PUBLISH
BEGIN:VEVENT
DTSTART:20260407T080152Z
DTEND:20260407T090152Z
DTSTAMP:20260420T025357Z
UID:abd4cc35-a686-4d8e-bd05-dddb1bc10107
CREATED:20260420T025357Z
NAME:Het dak gaat eraf bij Muziekcafé De Lantaern zevenaarpost.nl
X-WR-CALNAME:Het dak gaat eraf bij Muziekcafé De Lantaern
X-ALT-DESC;FMTTYPE=text/html:<a href='/agenda/2026/4/25/het-dak-gaat-eraf-bij-muziekcafe-de-lantaern-217069'>/agenda/2026/4/25/het-dak-gaat-eraf-bij-muziekcafe-de-lantaern-217069</a> || <p>
    ZEVENAAR - Op zaterdag 25 april  treedt de tienkoppige soul-, funk- en discoformatie Hit the Roof op in Muziekcafé De Lantaern in Zevenaar.
</p>
<p>
    Maak je klaar voor een avond vol soul, funk en disco. Hit the Roof zorgt al meer dan acht jaar voor volle dansvloeren en onvergetelijke feesten. En de naam van de band zegt het al: waar Hit the Roof speelt, gaat het dak eraf!
</p>
<p>
    De band neemt je mee op een muzikale reis van tijdloze Motown-klassiekers tot moderne soul, aangevuld met funky jazz en stevige grooves. Denk aan muziek van Incognito, Stevie Wonder, Chic, Earth Wind &amp; Fire, Kool &amp; the Gang, Allen Stone en Tower of Power. Elk nummer krijgt een unieke Hit the Roof-twist, met pure passie en muzikaal vakmanschap.
</p>
<p>
    Hit the Roof bestaat uit vijf krachtige vocalisten die betoveren met meerstemmige zang, een dynamische blazerssectie met drie ervaren muzikanten en een solide ritmesectie die je voeten onweerstaanbaar laat bewegen. De shows zijn interactief en energiek, en de band leeft op de energie van het publiek. Wanneer jij plezier hebt, stijgt hun energie naar ongekende hoogten!
</p>
<p>
    Of je nu van soul, disco of funk houdt, deze avond belooft een onvergetelijk feest te worden. De sfeer? 100% feest. De dansvloer? Altijd gevuld!
</p>
<p>
    Kaarten à € 10 zijn te koop via<a href="https://www.delantaern.nl/events/hit-the-roof/" target="_blank" rel="noopener noreferrer">www.delantaern.nl/events/hit-the-roof/</a> of telefonisch te reserveren via 06 40 54 24 23. Aanvang 20.30 uur. De Hooge Bongert 3 in Zevenaar.
</p>
DESCRIPTION:<a href='/agenda/2026/4/25/het-dak-gaat-eraf-bij-muziekcafe-de-lantaern-217069'>/agenda/2026/4/25/het-dak-gaat-eraf-bij-muziekcafe-de-lantaern-217069</a> || <p>
    ZEVENAAR - Op zaterdag 25 april  treedt de tienkoppige soul-, funk- en discoformatie Hit the Roof op in Muziekcafé De Lantaern in Zevenaar.
</p>
<p>
    Maak je klaar voor een avond vol soul, funk en disco. Hit the Roof zorgt al meer dan acht jaar voor volle dansvloeren en onvergetelijke feesten. En de naam van de band zegt het al: waar Hit the Roof speelt, gaat het dak eraf!
</p>
<p>
    De band neemt je mee op een muzikale reis van tijdloze Motown-klassiekers tot moderne soul, aangevuld met funky jazz en stevige grooves. Denk aan muziek van Incognito, Stevie Wonder, Chic, Earth Wind &amp; Fire, Kool &amp; the Gang, Allen Stone en Tower of Power. Elk nummer krijgt een unieke Hit the Roof-twist, met pure passie en muzikaal vakmanschap.
</p>
<p>
    Hit the Roof bestaat uit vijf krachtige vocalisten die betoveren met meerstemmige zang, een dynamische blazerssectie met drie ervaren muzikanten en een solide ritmesectie die je voeten onweerstaanbaar laat bewegen. De shows zijn interactief en energiek, en de band leeft op de energie van het publiek. Wanneer jij plezier hebt, stijgt hun energie naar ongekende hoogten!
</p>
<p>
    Of je nu van soul, disco of funk houdt, deze avond belooft een onvergetelijk feest te worden. De sfeer? 100% feest. De dansvloer? Altijd gevuld!
</p>
<p>
    Kaarten à € 10 zijn te koop via<a href="https://www.delantaern.nl/events/hit-the-roof/" target="_blank" rel="noopener noreferrer">www.delantaern.nl/events/hit-the-roof/</a> of telefonisch te reserveren via 06 40 54 24 23. Aanvang 20.30 uur. De Hooge Bongert 3 in Zevenaar.
</p>
LAST-MODIFIED:20260420T025357Z
LOCATION: Muziekcafe de Lantaern |   zevenaar
SEQUENCE:0
STATUS:CONFIRMED
SUMMARY:Het dak gaat eraf bij Muziekcafé De Lantaern
TRANSP:OPAQUE
END:VEVENT
END:VCALENDAR
