BEGIN:VCALENDAR
PRODID:-//PUBBLE//agenda//NL
VERSION:2.0
METHOD:PUBLISH
BEGIN:VEVENT
DTSTART:20260325T154335Z
DTEND:20260325T164335Z
DTSTAMP:20260421T081624Z
UID:42d35c41-4481-44a4-810e-07003d18ce5e
CREATED:20260421T081624Z
NAME:Informatiebijeenkomst vrijwillige palliatieve zorg zevenaarpost.nl
X-WR-CALNAME:Informatiebijeenkomst vrijwillige palliatieve zorg
X-ALT-DESC;FMTTYPE=text/html:<a href='/agenda/2026/4/23/informatiebijeenkomst-vrijwillige-palliatieve-zorg-216329'>/agenda/2026/4/23/informatiebijeenkomst-vrijwillige-palliatieve-zorg-216329</a> || <p>Wil jij als vrijwilliger van betekenis zijn voor mensen in de laatste levensfase en hun naasten? Kom naar naar één van onze informatiebijeenkomsten en ontdek hoe jij het verschil kunt maken!</p><p><strong>&nbsp;Donderdag 23 april | 19.30 - 21.30 uur | Velp<br /></strong>Ontmoetingscentrum de Paperclip, Eiberstr 16, Zaal 1<br /><br />Als VPTZ-vrijwilliger geef je tijd, aandacht en ondersteuning – overdag, ’s avonds of ’s nachts, net wat voor jou past. Je belangrijkste taak is ‘Er zijn’. Benieuwd? Tijdens de informatiebijeenkomst krijg je meer inzicht in dit bijzondere werk en is er ruimte voor vragen. Deelname is gratis en vrijblijvend. <br /><br /><strong>Meer weten? Kijk op vptz-amg.nl</strong></p><p>Aanmelden en meer informatie via: 085112020 (Helma van der Zouw en Ans Stuut, algemeen coördinatoren)</p><p>of mail naar info@vptz-amg.nl<br />www.vptz-amg.nl <br /><br /></p>
DESCRIPTION:<a href='/agenda/2026/4/23/informatiebijeenkomst-vrijwillige-palliatieve-zorg-216329'>/agenda/2026/4/23/informatiebijeenkomst-vrijwillige-palliatieve-zorg-216329</a> || <p>Wil jij als vrijwilliger van betekenis zijn voor mensen in de laatste levensfase en hun naasten? Kom naar naar één van onze informatiebijeenkomsten en ontdek hoe jij het verschil kunt maken!</p><p><strong>&nbsp;Donderdag 23 april | 19.30 - 21.30 uur | Velp<br /></strong>Ontmoetingscentrum de Paperclip, Eiberstr 16, Zaal 1<br /><br />Als VPTZ-vrijwilliger geef je tijd, aandacht en ondersteuning – overdag, ’s avonds of ’s nachts, net wat voor jou past. Je belangrijkste taak is ‘Er zijn’. Benieuwd? Tijdens de informatiebijeenkomst krijg je meer inzicht in dit bijzondere werk en is er ruimte voor vragen. Deelname is gratis en vrijblijvend. <br /><br /><strong>Meer weten? Kijk op vptz-amg.nl</strong></p><p>Aanmelden en meer informatie via: 085112020 (Helma van der Zouw en Ans Stuut, algemeen coördinatoren)</p><p>of mail naar info@vptz-amg.nl<br />www.vptz-amg.nl <br /><br /></p>
LAST-MODIFIED:20260421T081624Z
LOCATION: De Paperclip | Eiberstraat 16  Velp
SEQUENCE:0
STATUS:CONFIRMED
SUMMARY:Informatiebijeenkomst vrijwillige palliatieve zorg
TRANSP:OPAQUE
END:VEVENT
END:VCALENDAR
